BEGIN:VCALENDAR
VERSION:2.0
PRODID:-//Pierce Athletics - ECPv6.15.17.1//NONSGML v1.0//EN
CALSCALE:GREGORIAN
METHOD:PUBLISH
X-ORIGINAL-URL:https://pierceathletics.org
X-WR-CALDESC:Events for Pierce Athletics
REFRESH-INTERVAL;VALUE=DURATION:PT1H
X-Robots-Tag:noindex
X-PUBLISHED-TTL:PT1H
BEGIN:VTIMEZONE
TZID:UTC
BEGIN:STANDARD
TZOFFSETFROM:+0000
TZOFFSETTO:+0000
TZNAME:UTC
DTSTART:20240101T000000
END:STANDARD
END:VTIMEZONE
BEGIN:VEVENT
DTSTART;TZID=UTC:20251013T090000
DTEND;TZID=UTC:20251013T150000
DTSTAMP:20260424T115303
CREATED:20250826T135052Z
LAST-MODIFIED:20250826T135052Z
UID:10000024-1760346000-1760367600@pierceathletics.org
SUMMARY:Boo Bash
DESCRIPTION:Does your athlete love all things Halloween?\nAre they more into silly skeletons or playful pumpkins? Don’t get bored this fall—join us for a frightfully fun day of spooky obstacle courses\, glowing games\, festive crafts\, and so much more!! It’s a day filled with tumbling\, thrills\, and just the right amount of Halloween magic at Boo Bash Camp! \nThis camp is for athletes of all ability levels. All attending athletes should plan to bring a lunch. \n[vc_btn title=”REGISTER HERE” style=”gradient-custom” gradient_custom_color_1=”#000″ gradient_custom_color_2=”#ed1c24″ align=”center” css_animation=”flipInX” button_block=”true” link=”url:gomotionapp.com/team/ilpa/page/class-registration?classId=392033&subProgId=64559|title:Register%20Here”]
URL:https://pierceathletics.org/event/boo-bash/
CATEGORIES:Upcoming Events
ATTACH;FMTTYPE=image/png:https://pierceathletics.org/wp-content/uploads/2025/08/Boo-Bash-10-13.png
END:VEVENT
END:VCALENDAR