BEGIN:VCALENDAR
VERSION:2.0
PRODID:-//Pierce Athletics - ECPv6.15.17.1//NONSGML v1.0//EN
CALSCALE:GREGORIAN
METHOD:PUBLISH
X-ORIGINAL-URL:https://pierceathletics.org
X-WR-CALDESC:Events for Pierce Athletics
REFRESH-INTERVAL;VALUE=DURATION:PT1H
X-Robots-Tag:noindex
X-PUBLISHED-TTL:PT1H
BEGIN:VTIMEZONE
TZID:UTC
BEGIN:STANDARD
TZOFFSETFROM:+0000
TZOFFSETTO:+0000
TZNAME:UTC
DTSTART:20240101T000000
END:STANDARD
END:VTIMEZONE
BEGIN:VEVENT
DTSTART;TZID=UTC:20251128T090000
DTEND;TZID=UTC:20251128T150000
DTSTAMP:20260422T110915
CREATED:20250827T192903Z
LAST-MODIFIED:20250828T175940Z
UID:10000030-1764320400-1764342000@pierceathletics.org
SUMMARY:Black Light Glow Camp
DESCRIPTION:Does your athlete love to GLOW?\nAre they all about neon vibes and high-energy fun? Don’t get bored the day after Thanksgiving – join us for an action-packed day of black light tumbling\, glowing games\, neon crafts\, and so much more!! It’s a day filled with flips\, friends\, and a whole lot of glow at Black Light Friday GLOW Camp – while you snag those Black Friday deals! \nThis camp is for athletes of all ability levels. All attending athletes should plan to bring a lunch. \n[vc_btn title=”REGISTER HERE” style=”gradient-custom” gradient_custom_color_1=”#000″ gradient_custom_color_2=”#ed1c24″ align=”center” css_animation=”flipInX” button_block=”true” link=”url:gomotionapp.com/team/ilpa/page/class-registration?classId=392036&subProgId=64559|title:Register%20Here”]
URL:https://pierceathletics.org/event/black-light-glow-camp/
CATEGORIES:Upcoming Events
ATTACH;FMTTYPE=image/png:https://pierceathletics.org/wp-content/uploads/2025/08/Glow-Dance-Camp-11-28.png
END:VEVENT
END:VCALENDAR